BEGIN:VCALENDAR
VERSION:2.0
PRODID:-//St Croix Cellars - ECPv6.15.20//NONSGML v1.0//EN
CALSCALE:GREGORIAN
METHOD:PUBLISH
X-WR-CALNAME:St Croix Cellars
X-ORIGINAL-URL:https://stcroixcellars.com
X-WR-CALDESC:Events for St Croix Cellars
REFRESH-INTERVAL;VALUE=DURATION:PT1H
X-Robots-Tag:noindex
X-PUBLISHED-TTL:PT1H
BEGIN:VTIMEZONE
TZID:America/St_Thomas
BEGIN:STANDARD
TZOFFSETFROM:-0400
TZOFFSETTO:-0400
TZNAME:AST
DTSTART:20250101T000000
END:STANDARD
END:VTIMEZONE
BEGIN:VEVENT
DTSTART;TZID=America/St_Thomas:20260521T160000
DTEND;TZID=America/St_Thomas:20260521T220000
DTSTAMP:20260420T143119
CREATED:20251209T183246Z
LAST-MODIFIED:20251209T183246Z
UID:2402-1779379200-1779400800@stcroixcellars.com
SUMMARY:Wine Club
DESCRIPTION:Join the club that makes wine tasting feel effortless. \n\nEach month\, savor a curated mystery flight of four exceptional wines\, then take home the two that captured your heart (and your taste buds).\nMembers enjoy 15% off all glasses and bottles all month long\n\nWith flexible drop-in hours and no pressure\, our Wine Club is as relaxed and rewarding as island life itself. \n\nJoin Wine Club\n\n\nWhether you join for a single month or stay for the season\, you’ll always leave a little happier (and better stocked). \nCan’t make it that day? No worries!\nWe’ll hold your bottles until you can stop by. Easy\, delicious\, and just the right amount of commitment.
URL:https://stcroixcellars.com/event/wine-club-6/
LOCATION:St Croix Cellars\, Queen Cross Street\, Christiansted\, VI\, 00820\, U.S. Virgin Islands
CATEGORIES:Wine Club
END:VEVENT
END:VCALENDAR