BEGIN:VCALENDAR
VERSION:2.0
PRODID:-//St Croix Cellars - ECPv6.15.20//NONSGML v1.0//EN
CALSCALE:GREGORIAN
METHOD:PUBLISH
X-ORIGINAL-URL:https://stcroixcellars.com
X-WR-CALDESC:Events for St Croix Cellars
REFRESH-INTERVAL;VALUE=DURATION:PT1H
X-Robots-Tag:noindex
X-PUBLISHED-TTL:PT1H
BEGIN:VTIMEZONE
TZID:America/St_Thomas
BEGIN:STANDARD
TZOFFSETFROM:-0400
TZOFFSETTO:-0400
TZNAME:AST
DTSTART:20240101T000000
END:STANDARD
END:VTIMEZONE
BEGIN:VEVENT
DTSTART;TZID=America/St_Thomas:20251031T140000
DTEND;TZID=America/St_Thomas:20251031T220000
DTSTAMP:20260419T211346
CREATED:20251008T221330Z
LAST-MODIFIED:20251017T173340Z
UID:2185-1761919200-1761948000@stcroixcellars.com
SUMMARY:Wine Club - Halloween Edition
DESCRIPTION:Click here to join Wine Club! \nA hauntingly good night to join the St. Croix Cellars Wine Club \nStep into the cellar (if you dare) for mysterious pours\, moody lighting\, and wickedly good company. We’re unveiling our first-ever St. Croix Cellars Wine Club\, where the only thing scary is missing out! \nThe bottles? Four darkly playful creations waiting to be discovered. The true magic is in the mystery. No spoilers here. Just sip\, savor\, and surrender to the unknown. \nNo tricks\, just treats! You’ll take home two bottles of the spooky selection to enjoy later. We dare you to resist the temptation to open them right away. \n———————————- \nJoin us each month for a curated wine tasting experience. Click here to join! \nMembers will enjoy drop-in convenience to taste a flight of four themed selections and walk with two bottles of their choice. Perfect for seasoned connoisseurs or curious palates!
URL:https://stcroixcellars.com/event/wine-club-halloween-edition/
LOCATION:St Croix Cellars\, Queen Cross Street\, Christiansted\, VI\, 00820\, U.S. Virgin Islands
CATEGORIES:Wine Club,Wine Tasting Event
ATTACH;FMTTYPE=image/png:https://stcroixcellars.com/wp-content/uploads/2025/10/Website-version.png
END:VEVENT
END:VCALENDAR