BEGIN:VCALENDAR
VERSION:2.0
PRODID:-//St Croix Cellars - ECPv6.15.20//NONSGML v1.0//EN
CALSCALE:GREGORIAN
METHOD:PUBLISH
X-ORIGINAL-URL:https://stcroixcellars.com
X-WR-CALDESC:Events for St Croix Cellars
REFRESH-INTERVAL;VALUE=DURATION:PT1H
X-Robots-Tag:noindex
X-PUBLISHED-TTL:PT1H
BEGIN:VTIMEZONE
TZID:America/St_Thomas
BEGIN:STANDARD
TZOFFSETFROM:-0400
TZOFFSETTO:-0400
TZNAME:AST
DTSTART:20250101T000000
END:STANDARD
END:VTIMEZONE
BEGIN:VEVENT
DTSTART;TZID=America/St_Thomas:20260319T160000
DTEND;TZID=America/St_Thomas:20260319T220000
DTSTAMP:20260423T113220
CREATED:20251209T182002Z
LAST-MODIFIED:20260313T190333Z
UID:2397-1773936000-1773957600@stcroixcellars.com
SUMMARY:Wine Club
DESCRIPTION:Join the club that makes wine tasting feel effortless. \n\n\n\n\n\n\n\nSome of the best discoveries happen when you’re open to trying something new. \n\n\n\nThis month at St. Croix Cellars Wine Club\, we’re introducing four carefully chosen pours across different grape varieties and styles\, designed to take your palate on a journey and help you discover what you truly love in a glass. \n\n\n\nMaybe it’s the bold depth of a Malbec. Maybe it’s the crisp\, bright finish of a Sauvignon Blanc. Maybe it surprises you completely. \n\n\n\nThat’s the whole point. \n\n\n\nJoin us for an evening of exploration\, great conversation\, and two bottles to take home. Your next favorite wine is waiting to be found. \n\n\n\n\nEach month\, savor a curated mystery flight of four exceptional wines\, then take home the two that captured your heart (and your taste buds).\n\n\n\nMembers enjoy 15% off all glasses and bottles all month long\n\n\n\n\nWith flexible drop-in hours and no pressure\, our Wine Club is as relaxed and rewarding as island life itself. \n\n\n\n\nJoin Wine Club\n\n\n\n\n\n\n\n\nWhether you join for a single month or stay for the season\, you’ll always leave a little happier (and better stocked). \n\n\n\nCan’t make it that day? No worries!We’ll hold your bottles until you can stop by. Easy\, delicious\, and just the right amount of commitment.
URL:https://stcroixcellars.com/event/wine-club-4/
LOCATION:St Croix Cellars\, Queen Cross Street\, Christiansted\, VI\, 00820\, U.S. Virgin Islands
CATEGORIES:Wine Club
ATTACH;FMTTYPE=image/png:https://stcroixcellars.com/wp-content/uploads/2026/03/Mar-19-Wine-Club-Poster.png
END:VEVENT
BEGIN:VEVENT
DTSTART;TZID=America/St_Thomas:20260416T160000
DTEND;TZID=America/St_Thomas:20260416T220000
DTSTAMP:20260423T113221
CREATED:20251209T182654Z
LAST-MODIFIED:20260403T190828Z
UID:2400-1776355200-1776376800@stcroixcellars.com
SUMMARY:Wine Club: Spring Awakening
DESCRIPTION:Spring doesn’t tiptoe in\, and neither does this month’s Wine Club. \n\n\n\nFor our Spring Awakening flight\, we’re pouring bold\, big-flavored wines designed to wake up your palate and remind you what it feels like to be truly surprised by a glass. Think vibrant\, expressive\, and anything but subtle. \n\n\n\nCome taste what spring tastes like at St. Croix Cellars. \n\n\n\n\nEach month\, savor a curated mystery flight of four exceptional wines\, then take home the two that captured your heart (and your taste buds).\n\n\n\nMembers enjoy 15% off all glasses and bottles all month long\n\n\n\n\nWith flexible drop-in hours and no pressure\, our Wine Club is as relaxed and rewarding as island life itself. \n\n\n\nJoin the club that makes wine tasting feel effortless. \n\n\n\n\nJoin Wine Club\n\n\n\n\n\n\n\n\nWhether you join for a single month or stay for the season\, you’ll always leave a little happier (and better stocked). \n\n\n\nCan’t make it that day? No worries!We’ll hold your bottles until you can stop by. Easy\, delicious\, and just the right amount of commitment.
URL:https://stcroixcellars.com/event/wine-club-5/
LOCATION:St Croix Cellars\, Queen Cross Street\, Christiansted\, VI\, 00820\, U.S. Virgin Islands
CATEGORIES:Wine Club
ATTACH;FMTTYPE=image/png:https://stcroixcellars.com/wp-content/uploads/2025/12/Apr-16-Wine-Club-Poster.png
END:VEVENT
BEGIN:VEVENT
DTSTART;TZID=America/St_Thomas:20260521T160000
DTEND;TZID=America/St_Thomas:20260521T220000
DTSTAMP:20260423T113221
CREATED:20251209T183246Z
LAST-MODIFIED:20251209T183246Z
UID:2402-1779379200-1779400800@stcroixcellars.com
SUMMARY:Wine Club
DESCRIPTION:Join the club that makes wine tasting feel effortless. \n\nEach month\, savor a curated mystery flight of four exceptional wines\, then take home the two that captured your heart (and your taste buds).\nMembers enjoy 15% off all glasses and bottles all month long\n\nWith flexible drop-in hours and no pressure\, our Wine Club is as relaxed and rewarding as island life itself. \n\nJoin Wine Club\n\n\nWhether you join for a single month or stay for the season\, you’ll always leave a little happier (and better stocked). \nCan’t make it that day? No worries!\nWe’ll hold your bottles until you can stop by. Easy\, delicious\, and just the right amount of commitment.
URL:https://stcroixcellars.com/event/wine-club-6/
LOCATION:St Croix Cellars\, Queen Cross Street\, Christiansted\, VI\, 00820\, U.S. Virgin Islands
CATEGORIES:Wine Club
END:VEVENT
BEGIN:VEVENT
DTSTART;TZID=America/St_Thomas:20260618T160000
DTEND;TZID=America/St_Thomas:20260618T220000
DTSTAMP:20260423T113221
CREATED:20260422T163801Z
LAST-MODIFIED:20260422T163812Z
UID:2525-1781798400-1781820000@stcroixcellars.com
SUMMARY:Wine Club
DESCRIPTION:Join the club that makes wine tasting feel effortless. \n\n\n\n\nEach month\, savor a curated mystery flight of four exceptional wines\, then take home the two that captured your heart (and your taste buds).\n\n\n\nMembers enjoy 15% off all glasses and bottles all month long\n\n\n\n\nWith flexible drop-in hours and no pressure\, our Wine Club is as relaxed and rewarding as island life itself. \n\n\n\nJoin Wine Club \n\n\n\nWhether you join for a single month or stay for the season\, you’ll always leave a little happier (and better stocked). \n\n\n\nCan’t make it that day? No worries!We’ll hold your bottles until you can stop by. Easy\, delicious\, and just the right amount of commitment.
URL:https://stcroixcellars.com/event/wine-club-7/
LOCATION:St Croix Cellars\, Queen Cross Street\, Christiansted\, VI\, 00820\, U.S. Virgin Islands
CATEGORIES:Wine Club
END:VEVENT
END:VCALENDAR